BEGIN:VCALENDAR
VERSION:2.0
PRODID:-//RAY Ceredigion - ECPv6.15.11//NONSGML v1.0//EN
CALSCALE:GREGORIAN
METHOD:PUBLISH
X-WR-CALNAME:RAY Ceredigion
X-ORIGINAL-URL:https://rayceredigion.org.uk/cy/
X-WR-CALDESC:Events for RAY Ceredigion
REFRESH-INTERVAL;VALUE=DURATION:PT1H
X-Robots-Tag:noindex
X-PUBLISHED-TTL:PT1H
BEGIN:VTIMEZONE
TZID:Europe/London
BEGIN:DAYLIGHT
TZOFFSETFROM:+0000
TZOFFSETTO:+0100
TZNAME:BST
DTSTART:20230326T010000
END:DAYLIGHT
BEGIN:STANDARD
TZOFFSETFROM:+0100
TZOFFSETTO:+0000
TZNAME:GMT
DTSTART:20231029T010000
END:STANDARD
BEGIN:DAYLIGHT
TZOFFSETFROM:+0000
TZOFFSETTO:+0100
TZNAME:BST
DTSTART:20240331T010000
END:DAYLIGHT
BEGIN:STANDARD
TZOFFSETFROM:+0100
TZOFFSETTO:+0000
TZNAME:GMT
DTSTART:20241027T010000
END:STANDARD
BEGIN:DAYLIGHT
TZOFFSETFROM:+0000
TZOFFSETTO:+0100
TZNAME:BST
DTSTART:20250330T010000
END:DAYLIGHT
BEGIN:STANDARD
TZOFFSETFROM:+0100
TZOFFSETTO:+0000
TZNAME:GMT
DTSTART:20251026T010000
END:STANDARD
BEGIN:DAYLIGHT
TZOFFSETFROM:+0000
TZOFFSETTO:+0100
TZNAME:BST
DTSTART:20260329T010000
END:DAYLIGHT
BEGIN:STANDARD
TZOFFSETFROM:+0100
TZOFFSETTO:+0000
TZNAME:GMT
DTSTART:20261025T010000
END:STANDARD
BEGIN:DAYLIGHT
TZOFFSETFROM:+0000
TZOFFSETTO:+0100
TZNAME:BST
DTSTART:20270328T010000
END:DAYLIGHT
BEGIN:STANDARD
TZOFFSETFROM:+0100
TZOFFSETTO:+0000
TZNAME:GMT
DTSTART:20271031T010000
END:STANDARD
END:VTIMEZONE
BEGIN:VEVENT
DTSTART;TZID=Europe/London:20260221T140000
DTEND;TZID=Europe/London:20260221T160000
DTSTAMP:20260419T150235
CREATED:20260210T205127Z
LAST-MODIFIED:20260210T205719Z
UID:2067-1771682400-1771689600@rayceredigion.org.uk
SUMMARY:Gweithdy adrodd straeon
DESCRIPTION:2-4 yh | Hayl drama 3 cemau gyda Emma Mace\nGemau\, chwerthin a hwyl greadigol wrth i ni archwilio gwahanol ffyrdd o adrodd straeon gyda’n gilydd.
URL:https://rayceredigion.org.uk/cy/event/gweithdy-adrodd-straeon/
END:VEVENT
BEGIN:VEVENT
DTSTART;TZID=Europe/London:20260216T140000
DTEND;TZID=Europe/London:20260216T160000
DTSTAMP:20260419T150235
CREATED:20260210T205602Z
LAST-MODIFIED:20260210T205602Z
UID:2073-1771250400-1771257600@rayceredigion.org.uk
SUMMARY:Gweithdy sgwennu creadigol
DESCRIPTION:2-4 yh | gyda Emma Mace\nEisiau mynd ychydig yn wirion gyda geiriau? dim pwysau! byddwn yn chwarae gyda syniadau a sgwrsio dros paned. mae rhywbeth i bawb!
URL:https://rayceredigion.org.uk/cy/event/gweithdy-sgwennu-creadigol/
END:VEVENT
BEGIN:VEVENT
DTSTART;TZID=Europe/London:20260215T130000
DTEND;TZID=Europe/London:20260215T160000
DTSTAMP:20260419T150235
CREATED:20260210T205415Z
LAST-MODIFIED:20260210T205415Z
UID:2071-1771160400-1771171200@rayceredigion.org.uk
SUMMARY:Lansiad & gweithdy celf
DESCRIPTION:1-4 yh | gyda Natalie Chapman\nDewch i fod yn greadigol a helpu i greu baner Aberaeron drwy wneud eich sgwâr bach eich hun.
URL:https://rayceredigion.org.uk/cy/event/lansiad-gweithdy-celf/
LOCATION:RAY Ceredigion\, Pengloyn\, Tabernacle St\, Aberaeron\, SA46 0BN\, United Kingdom
END:VEVENT
BEGIN:VEVENT
DTSTART;TZID=Europe/London:20251018T130000
DTEND;TZID=Europe/London:20251202T150000
DTSTAMP:20260419T150235
CREATED:20250903T195009Z
LAST-MODIFIED:20250903T195353Z
UID:1948-1760792400-1764687600@rayceredigion.org.uk
SUMMARY:Youth Enterprise Fair
DESCRIPTION:Book a FREE table
URL:https://rayceredigion.org.uk/cy/event/youth-enterprise-fair/
LOCATION:Feathers Hotel\, Feathers Hotel\, Aberaeron\, Ceredigion\, SA46 0AQ\, United Kingdom
END:VEVENT
BEGIN:VEVENT
DTSTART;TZID=Europe/London:20240807T113000
DTEND;TZID=Europe/London:20240807T153000
DTSTAMP:20260419T150235
CREATED:20240509T185738Z
LAST-MODIFIED:20240509T185738Z
UID:1842-1723030200-1723044600@rayceredigion.org.uk
SUMMARY:RAY Play Day
DESCRIPTION:RAY Play Day Booking form 2024 \nRAY Play Day Notes to activity providers 2024
URL:https://rayceredigion.org.uk/cy/event/ray-play-day/
LOCATION:Aberaeron Square Field\, Sgwar Alban\, Aberaeron\, SA46\, United Kingdom
END:VEVENT
END:VCALENDAR